BEGIN:VCALENDAR
VERSION:2.0
PRODID:-//Die Anonyme Giddarischde//NONSGML kigkonsult.se iCalcreator 2.30.
 10//
CALSCALE:GREGORIAN
METHOD:PUBLISH
UID:2ca2af23-2226-4382-8a85-3cbb394c6b98
X-WR-CALNAME:iCagenda
X-WR-CALDESC:Event Management Extension for Joomla!
X-WR-RELCALID:3E26604A-50F4-4449-8B3E-E4F4932D05B5
X-WR-TIMEZONE:UTC
BEGIN:VTIMEZONE
TZID:UTC
END:VTIMEZONE
BEGIN:VEVENT
UID:3b4f5279-1d53-481a-86d8-a1ec92a0fb23
DTSTAMP:20260421T091820Z
CATEGORIES:Oowends
CLASS:PUBLIC
DESCRIPTION:
DTSTART:20260508T200000Z
DTEND:20260508T235900Z
GEO:+49.266037;+8.17705
LOCATION:Weingut Spiegel\, Großfischlingen \, Am weißen Kreuz 1
ORGANIZER:
SEQUENCE:1
SUMMARY:Weingut Spiegel\, Großfischlingen
TRANSP:OPAQUE
URL:https://www.dieanonymegiddarischde.de/index.php/termine/16-weingut-spie
 gel-grossfischlingen
END:VEVENT
END:VCALENDAR
