BEGIN:VCALENDAR
VERSION:2.0
PRODID:-//Die Anonyme Giddarischde//NONSGML kigkonsult.se iCalcreator 2.30.
 10//
CALSCALE:GREGORIAN
METHOD:PUBLISH
UID:85ab6284-6a01-48af-b2d0-3dccd84aa563
X-WR-CALNAME:iCagenda
X-WR-CALDESC:Event Management Extension for Joomla!
X-WR-RELCALID:3E26604A-50F4-4449-8B3E-E4F4932D05B5
X-WR-TIMEZONE:UTC
BEGIN:VTIMEZONE
TZID:UTC
END:VTIMEZONE
BEGIN:VEVENT
UID:2cda48db-1ad7-4857-a5b8-ba62dfee9d9d
DTSTAMP:20260421T091358Z
CATEGORIES:Oowends
CLASS:PUBLIC
DESCRIPTION;ALTREP="CID:<FFFF__=0ABBE548DFE235B58f9e8a93d@coffeebean.com>":
 Kartenvorverkauf:\nhttps://www.martinspforte.de/veranstaltungenpresse
DTSTART:20260717T200000Z
DTEND:20260717T235900Z
GEO:+49.651493;+8.125677
LOCATION:Weingut Martinspforte\, Hauptstr.36\, 67308 Einselthum
ORGANIZER:
SEQUENCE:1
SUMMARY:Weingut Martinspforte\, Einselthum
TRANSP:OPAQUE
URL:https://www.dieanonymegiddarischde.de/index.php/termine/17-weingut-mart
 inspforte-einselthum
END:VEVENT
END:VCALENDAR
