BEGIN:VCALENDAR
VERSION:2.0
PRODID:-//Die Anonyme Giddarischde//NONSGML kigkonsult.se iCalcreator 2.30.
 10//
CALSCALE:GREGORIAN
METHOD:PUBLISH
UID:939e490b-9218-429d-ac13-373fb7feee9c
X-WR-CALNAME:iCagenda
X-WR-CALDESC:Event Management Extension for Joomla!
X-WR-RELCALID:3E26604A-50F4-4449-8B3E-E4F4932D05B5
X-WR-TIMEZONE:UTC
BEGIN:VTIMEZONE
TZID:UTC
END:VTIMEZONE
BEGIN:VEVENT
UID:51fc44a3-7503-4610-a78a-708f4bf3f480
DTSTAMP:20260419T131947Z
CATEGORIES:Oowends
CLASS:PUBLIC
DESCRIPTION:
DTSTART:20260801T200000Z
DTEND:20260801T235900Z
GEO:+49.052116;+8.085989
LOCATION:Schützenhaus in 76744 Wörth
ORGANIZER:
SEQUENCE:1
SUMMARY:Rock am Altwasser - Wörth
TRANSP:OPAQUE
URL:https://www.dieanonymegiddarischde.de/index.php/termine/18-rock-am-altw
 asser-woerth
END:VEVENT
END:VCALENDAR
