BEGIN:VCALENDAR
VERSION:2.0
PRODID:-//Die Anonyme Giddarischde//NONSGML kigkonsult.se iCalcreator 2.30.
 10//
CALSCALE:GREGORIAN
METHOD:PUBLISH
UID:e395b81b-866c-4ba1-ae1e-585429ed12b5
X-WR-CALNAME:iCagenda
X-WR-CALDESC:Event Management Extension for Joomla!
X-WR-RELCALID:3E26604A-50F4-4449-8B3E-E4F4932D05B5
X-WR-TIMEZONE:UTC
BEGIN:VTIMEZONE
TZID:UTC
END:VTIMEZONE
BEGIN:VEVENT
UID:44229dd2-8916-476f-b9d6-5c62ba09da79
DTSTAMP:20260423T085259Z
CATEGORIES:Oowends
CLASS:PUBLIC
DESCRIPTION:
DTSTART:20260814T190000Z
DTEND:20260814T230000Z
GEO:+49.51416;+8.154842
LOCATION:Weingut & Destillerie Thomas Sippel Bobenheimer Weg 2\, 67273 Weis
 enheim am Berg
ORGANIZER:
SEQUENCE:1
SUMMARY:Weingut & Destillerie Thomas Sippel - Weisenheim am Berg
TRANSP:OPAQUE
URL:https://www.dieanonymegiddarischde.de/index.php/termine/20-weingut-dest
 illerie-thomas-sippel-weisenheim-am-berg
END:VEVENT
END:VCALENDAR
