BEGIN:VCALENDAR
VERSION:2.0
PRODID:-//Die Anonyme Giddarischde//NONSGML kigkonsult.se iCalcreator 2.30.
 10//
CALSCALE:GREGORIAN
METHOD:PUBLISH
UID:9e538751-dfb7-4fbe-b5b5-459f4ad21280
X-WR-CALNAME:iCagenda
X-WR-CALDESC:Event Management Extension for Joomla!
X-WR-RELCALID:3E26604A-50F4-4449-8B3E-E4F4932D05B5
X-WR-TIMEZONE:UTC
BEGIN:VTIMEZONE
TZID:UTC
END:VTIMEZONE
BEGIN:VEVENT
UID:25c1f1d0-824a-440a-892e-b81efc163c4d
DTSTAMP:20260421T122004Z
CATEGORIES:Oowends
CLASS:PUBLIC
DESCRIPTION:
DTSTART:20260907T180000Z
DTEND:20260907T220000Z
GEO:00;0
LOCATION:Kerwe Eisenberg\, Bühne am Wochenmarktplatz
ORGANIZER:
SEQUENCE:1
SUMMARY:Kerwe Eisenberg - Bühne am Wochenmarktplatz
TRANSP:OPAQUE
URL:https://www.dieanonymegiddarischde.de/index.php/termine/21-kerwe-eisenb
 erg-buehne-am-wochenmarktplatz-2
END:VEVENT
END:VCALENDAR
