BEGIN:VCALENDAR
VERSION:2.0
PRODID:-//Die Anonyme Giddarischde//NONSGML kigkonsult.se iCalcreator 2.30.
 10//
CALSCALE:GREGORIAN
METHOD:PUBLISH
UID:4461b9a1-b563-419d-a1bd-f8b67e580652
X-WR-CALNAME:iCagenda
X-WR-CALDESC:Event Management Extension for Joomla!
X-WR-RELCALID:3E26604A-50F4-4449-8B3E-E4F4932D05B5
X-WR-TIMEZONE:UTC
BEGIN:VTIMEZONE
TZID:UTC
END:VTIMEZONE
BEGIN:VEVENT
UID:b793f8c9-6032-4a4d-af51-d4b0a8f561ae
DTSTAMP:20260421T122356Z
CATEGORIES:Oowends
CLASS:PUBLIC
DESCRIPTION;ALTREP="CID:<FFFF__=0ABBE548DFE235B58f9e8a93d@coffeebean.com>":
 Location:\nKarl Sieber Halle - Römerstraße 5\, 66954 Pirmasens
DTSTART:20260926T120200Z
DTEND:20260926T235900Z
GEO:00;0
LOCATION:Karl Sieber Halle - Römerstraße 5\, 66954 Pirmasens
ORGANIZER:
SEQUENCE:1
SUMMARY:Förderverein der Dorfgemeinschaft Windsberg - Karl-Sieber-Halle Pir
 masens
TRANSP:OPAQUE
URL:https://www.dieanonymegiddarischde.de/index.php/termine/22-foerderverei
 n-der-dorfgemeinschaft-windsberg-karl-sieber-halle-pirmasens
END:VEVENT
END:VCALENDAR
