BEGIN:VCALENDAR
VERSION:2.0
PRODID:-//Die Anonyme Giddarischde//NONSGML kigkonsult.se iCalcreator 2.30.
 10//
CALSCALE:GREGORIAN
METHOD:PUBLISH
UID:6483d69c-3a81-4db1-af09-45166cba324c
X-WR-CALNAME:iCagenda
X-WR-CALDESC:Event Management Extension for Joomla!
X-WR-RELCALID:3E26604A-50F4-4449-8B3E-E4F4932D05B5
X-WR-TIMEZONE:UTC
BEGIN:VTIMEZONE
TZID:UTC
END:VTIMEZONE
BEGIN:VEVENT
UID:24de94f8-1643-4f4a-ba91-0329e7771328
DTSTAMP:20260423T104017Z
CATEGORIES:Moiens
CLASS:PUBLIC
DESCRIPTION:
DTSTART:20261018T110000Z
DTEND:20261018T150000Z
GEO:00;0
LOCATION:
ORGANIZER:
SEQUENCE:1
SUMMARY:Winzerfest Bockenheim - Frühschoppen
TRANSP:OPAQUE
URL:https://www.dieanonymegiddarischde.de/index.php/termine/23-winzerfest-b
 ockenheim-fruehschoppen-2
END:VEVENT
END:VCALENDAR
