BEGIN:VCALENDAR
VERSION:2.0
PRODID:-//Die Anonyme Giddarischde//NONSGML kigkonsult.se iCalcreator 2.30.
 10//
CALSCALE:GREGORIAN
METHOD:PUBLISH
UID:766ac095-17a6-4e51-a56f-b75f6c3bffa3
X-WR-CALNAME:iCagenda
X-WR-CALDESC:Event Management Extension for Joomla!
X-WR-RELCALID:3E26604A-50F4-4449-8B3E-E4F4932D05B5
X-WR-TIMEZONE:UTC
BEGIN:VTIMEZONE
TZID:UTC
END:VTIMEZONE
BEGIN:VEVENT
UID:df9c65a5-e604-420d-95b6-35b615b93a1f
DTSTAMP:20260421T125013Z
CATEGORIES:Oowends
CLASS:PUBLIC
DESCRIPTION:
DTSTART:20261127T120600Z
DTEND:20261127T235900Z
GEO:+49.460266;+7.822135
LOCATION:Irish House\, Eselsfürth 11\, Kaiserslautern\, Rheinland-Pfalz\, 6
 7657
ORGANIZER:
SEQUENCE:1
SUMMARY:Irishhouse Kaiserslautern
TRANSP:OPAQUE
URL:https://www.dieanonymegiddarischde.de/index.php/termine/24-irishhouse-k
 aiserslautern
END:VEVENT
END:VCALENDAR
