BEGIN:VCALENDAR
VERSION:2.0
PRODID:-//Die Anonyme Giddarischde//NONSGML kigkonsult.se iCalcreator 2.30.
 10//
CALSCALE:GREGORIAN
METHOD:PUBLISH
UID:657e8fb5-c1f6-42ee-b6ca-131b3ef11556
X-WR-CALNAME:iCagenda
X-WR-CALDESC:Event Management Extension for Joomla!
X-WR-RELCALID:3E26604A-50F4-4449-8B3E-E4F4932D05B5
X-WR-TIMEZONE:UTC
BEGIN:VTIMEZONE
TZID:UTC
END:VTIMEZONE
BEGIN:VEVENT
UID:9a1ae7eb-f0ab-4591-bb6c-e58eafdc77ce
DTSTAMP:20260423T085429Z
CATEGORIES:Oowends
CLASS:PUBLIC
DESCRIPTION:
DTSTART:20261204T120800Z
DTEND:20261204T235900Z
GEO:+49.193851;+7.610448
LOCATION:Z1 Live-Musikclub\, Landauer Str. 21\, 66953 Pirmasens
ORGANIZER:
SEQUENCE:1
SUMMARY:Z1 Live-Musikclub\, Pirmasens
TRANSP:OPAQUE
URL:https://www.dieanonymegiddarischde.de/index.php/termine/25-z1-live-musi
 kclub-pirmasens
END:VEVENT
END:VCALENDAR
