BEGIN:VCALENDAR
VERSION:2.0
PRODID:-//Die Anonyme Giddarischde//NONSGML kigkonsult.se iCalcreator 2.30.
 10//
CALSCALE:GREGORIAN
METHOD:PUBLISH
UID:f85ea9f9-c15c-40fa-b306-38d69367b88d
X-WR-CALNAME:iCagenda
X-WR-CALDESC:Event Management Extension for Joomla!
X-WR-RELCALID:3E26604A-50F4-4449-8B3E-E4F4932D05B5
X-WR-TIMEZONE:UTC
BEGIN:VTIMEZONE
TZID:UTC
END:VTIMEZONE
BEGIN:VEVENT
UID:1604152d-714a-43d7-a94e-18c8f9b1d056
DTSTAMP:20260421T123832Z
CATEGORIES:Oowends
CLASS:PUBLIC
DESCRIPTION;ALTREP="CID:<FFFF__=0ABBE548DFE235B58f9e8a93d@coffeebean.com>":
 \n\nEinlass: 18:00 UhrBeginn:  19:00 Uhr\n\n\n\nDie Anonyme Giddarischde\n
 \nDie Anonyme Giddarischde am 10.10.2026 in Landstuhl\n\n\nSchon Schulkind
 er bekommen mittlerweile das „Palzlied“ im Unterricht beigebracht\, ihre O
 de an die „Lewwerworscht“ lief ungezählte Male im Radio (zur Fastnacht)\, 
 ob auf dem Betzenberg\, dem Wurstmarkt oder dem abgelegensten Weinfest in 
 der Pfalz- man kann sich ihnen nicht entziehen: irgendwo wird immer ein Li
 ed der Anonyme Giddarischde gespielt. Unzählige Male kopiert sind ihre Lie
 der längst zum prägenden Kulturgut einer ganzen Region geworden. Aber niem
 and kommt an die Originale ran und deshalb veröffentlichen die Anonyme Gid
 darischde zu ihrem 20-jährigen Bestehen einen Jubiläumssampler. Von der „A
 B Mick“ über den „Baumarkt“ bis hin zu „Peterles Hochzeit“ sind 19 Perlen 
 versammelt sowie ein brandneues Lied\, welches im Frühjahr diesen Jahres a
 ufgenommen wurde. Und natürlich darf auch die „Lewwerworscht“ und das „Pal
 zlied“ nicht fehlen. Eines ist ihnen alle gemeinsam: ihre Hingabe zur Pfäl
 zer Sprache\, der humoristischen spitzfindigen Überhöhung von Alltagssitua
 tionen\, gepaart mit einem Händchen für einprägsame Melodien. Abgöttisch v
 erehrt vom Anhang zeigt diese Zusammenstellung wieder einmal die Ausnahmes
 tellung dieser Kult-Band als generationsübergreifende Hohepriester des Pfä
 lzer Liedgutes.\n\n\n\n\nTickets kaufen\n\n\n\nWoifeschdkänisch\n\nWoifesc
 hdkänisch am 10.10.2026 in Landstuhl\n\n\nWenn die Woifeschdkänisch - zu D
 eutsch: die Weinfestkönige - durch ihr Land reisen\, um auf Weinfesten\, W
 anderhütten und Winzerhöfen mit ihrem kleinen Volk links des Rheines auf T
 uchfühlung zu gehen\, haben sie immer eine reiche Auswahl an stolzen Melod
 ien aus aller Herren Länder im Gepäck\, die sie in ihren zahlreichen Feldz
 ügen durch die Charts von 70 Jahren erobert und in das heimische Gewand de
 s Vorderpfälzer Dialekts mund(art)gerecht überführt haben. Sie besingen di
 e Tücken des familiären und beruflichen Alltags in der Pfalz rund um 'Weck
 \, Worscht un Woi'. Ihre musikalische Darbietung erfolgt akustisch mit Git
 arren\, Klavier und bis zu vierstimmigem Gesang\, jedoch keinesfalls ruhig
  und beschaulich. Denn statt Vergnügungssteuer fordern die Woifeschdkänisc
 h einen anderen Tribut von ihrem Publikum: vollen Einsatz beim Klatschen u
 nd Mitsingen... und wahlweise auch an der Theke!\n\n\n\n\nTickets kaufen\n
 \n\n\nTeyar Cira alias Pälzer Türk\n\nPälzer Türk am 10.10.2026 in Landstu
 hl\n\n
DTSTART:20261010T210000Z
DTEND:20261010T235900Z
GEO:+49.412659;+7.569766
LOCATION:Stadthalle Landstuhl -Kaiserstraße 39\, 66849 Landstuhl
ORGANIZER:
SEQUENCE:1
SUMMARY:Stadthalle Landstuhl
TRANSP:OPAQUE
URL:https://www.dieanonymegiddarischde.de/index.php/termine/27-stadthalle-l
 andstuhl
END:VEVENT
END:VCALENDAR
