BEGIN:VCALENDAR
VERSION:2.0
PRODID:-//Die Anonyme Giddarischde//NONSGML kigkonsult.se iCalcreator 2.30.
 10//
CALSCALE:GREGORIAN
METHOD:PUBLISH
UID:bba7a021-9e77-4ae8-89fe-87bf6c307c08
X-WR-CALNAME:iCagenda
X-WR-CALDESC:Event Management Extension for Joomla!
X-WR-RELCALID:3E26604A-50F4-4449-8B3E-E4F4932D05B5
X-WR-TIMEZONE:UTC
BEGIN:VTIMEZONE
TZID:UTC
END:VTIMEZONE
BEGIN:VEVENT
UID:09b19eb8-3214-4034-82c6-a044bfe446be
DTSTAMP:20260421T122411Z
CATEGORIES:Oowends
CLASS:PUBLIC
DESCRIPTION;ALTREP="CID:<FFFF__=0ABBE548DFE235B58f9e8a93d@coffeebean.com>":
 Tickets:\nhttps://www.beck-wein.de/event/die-anonyme-gidarrischde/
DTSTART:20261023T200000Z
DTEND:20261023T235900Z
GEO:+49.068192;+7.979478
LOCATION:Weingut Beck\, Rotackerweg 27\, 76889 Oberotterbach
ORGANIZER:
SEQUENCE:1
SUMMARY:Weingut Beck Oberotterbach
TRANSP:OPAQUE
URL:https://www.dieanonymegiddarischde.de/index.php/termine/30-weingut-beck
 -oberotterbach
END:VEVENT
END:VCALENDAR
