BEGIN:VCALENDAR
VERSION:2.0
PRODID:-//Die Anonyme Giddarischde//NONSGML kigkonsult.se iCalcreator 2.30.
 10//
CALSCALE:GREGORIAN
METHOD:PUBLISH
UID:abfde9a5-5529-4267-8e53-a480a60f90b1
X-WR-CALNAME:iCagenda
X-WR-CALDESC:Event Management Extension for Joomla!
X-WR-RELCALID:3E26604A-50F4-4449-8B3E-E4F4932D05B5
X-WR-TIMEZONE:UTC
BEGIN:VTIMEZONE
TZID:UTC
END:VTIMEZONE
BEGIN:VEVENT
UID:e7f713bb-cc10-4d15-b8f9-24d111fa6df4
DTSTAMP:20260423T085435Z
CATEGORIES:Oowends
CLASS:PUBLIC
DESCRIPTION:
DTSTART:20260706T190000Z
DTEND:20260706T230000Z
GEO:00;0
LOCATION:Heinerfest Darmstadt
ORGANIZER:
SEQUENCE:1
SUMMARY:Heinerfest Darmstadt
TRANSP:OPAQUE
URL:https://www.dieanonymegiddarischde.de/index.php/termine/31-heinerfest-d
 armstadt
END:VEVENT
END:VCALENDAR
