BEGIN:VCALENDAR
VERSION:2.0
PRODID:-//Die Anonyme Giddarischde//NONSGML kigkonsult.se iCalcreator 2.30.
 10//
CALSCALE:GREGORIAN
METHOD:PUBLISH
UID:bc8e119c-05dc-42db-a000-5d982cdd4167
X-WR-CALNAME:iCagenda
X-WR-CALDESC:Event Management Extension for Joomla!
X-WR-RELCALID:3E26604A-50F4-4449-8B3E-E4F4932D05B5
X-WR-TIMEZONE:UTC
BEGIN:VTIMEZONE
TZID:UTC
END:VTIMEZONE
BEGIN:VEVENT
UID:8e2d7adc-9fb5-4626-a5eb-2a3707c0c42e
DTSTAMP:20260421T121635Z
CATEGORIES:Oowends
CLASS:PUBLIC
DESCRIPTION:
DTSTART:20260905T180000Z
DTEND:20260905T220000Z
GEO:+49.428452;+8.118869
LOCATION:Oppauer Haus
ORGANIZER:
SEQUENCE:1
SUMMARY:Oppauer Haus
TRANSP:OPAQUE
URL:https://www.dieanonymegiddarischde.de/index.php/termine/32-oppauer-haus
END:VEVENT
END:VCALENDAR
