BEGIN:VCALENDAR
VERSION:2.0
PRODID:-//Die Anonyme Giddarischde//NONSGML kigkonsult.se iCalcreator 2.30.
 10//
CALSCALE:GREGORIAN
METHOD:PUBLISH
UID:da9c0bf7-4700-4479-95e9-ebd1fc4c99b3
X-WR-CALNAME:iCagenda
X-WR-CALDESC:Event Management Extension for Joomla!
X-WR-RELCALID:3E26604A-50F4-4449-8B3E-E4F4932D05B5
X-WR-TIMEZONE:UTC
BEGIN:VTIMEZONE
TZID:UTC
END:VTIMEZONE
BEGIN:VEVENT
UID:62424e66-c0ec-4045-a428-16cf0d16da53
DTSTAMP:20260421T124014Z
CATEGORIES:Oowends
CLASS:PUBLIC
DESCRIPTION;ALTREP="CID:<FFFF__=0ABBE548DFE235B58f9e8a93d@coffeebean.com>":
 Herbstfest Rockenhausen\, Festzelt (Festplatz am Schulzentrum Rockenhausen
 )\, Brühlgasse in 67806 Rockenhausen.\n 
DTSTART:20260912T203000Z
DTEND:20260912T235900Z
GEO:+49.625126;+7.820516
LOCATION:Festzelt (Festplatz am Schulzentrum Rockenhausen)
ORGANIZER:
SEQUENCE:1
SUMMARY:Herbstfest Rockenhausen\, Festzelt (Festplatz am Schulzentrum Rocke
 nhausen)
TRANSP:OPAQUE
URL:https://www.dieanonymegiddarischde.de/index.php/termine/36-herbstfest-r
 ockenhausen-festzelt-festplatz-am-schulzentrum-rockenhausen
END:VEVENT
END:VCALENDAR
